BEGIN:VCALENDAR
VERSION:2.0
PRODID:-//hacksw/handcal//NONSGML v1.0//EN
BEGIN:VEVENT
SUMMARY:TOURVES
UID:1f42a2a1-f53c-4318-ad4d-edc05b8f1476
DTSTART:20260531T050000Z
DTEND:20260531T100000Z
LOCATION:Localisation Le Caramy 83 Tourves
CATEGORIES:Entrainement
STATUS:
DESCRIPTION:<p>Depart de Saint-Menet ou Beaudinard a 7h00</p>
 
 <p>Par
 Auriol, Saint-Zacharie, Nans les Pins,...</p>
URL;VALUE=URI:https://www.veloexcelsiormarseille.fr/evenements/2026/05/31/tourves-2443281
END:VEVENT
END:VCALENDAR
